BEGIN:VCALENDAR
VERSION:2.0
PRODID:-//Keller Entertainment &amp; Apres Nightclub - ECPv6.15.20//NONSGML v1.0//EN
CALSCALE:GREGORIAN
METHOD:PUBLISH
X-WR-CALNAME:Keller Entertainment &amp; Apres Nightclub
X-ORIGINAL-URL:https://kellerandapres.com
X-WR-CALDESC:Events for Keller Entertainment &amp; Apres Nightclub
REFRESH-INTERVAL;VALUE=DURATION:PT1H
X-Robots-Tag:noindex
X-PUBLISHED-TTL:PT1H
BEGIN:VTIMEZONE
TZID:UTC
BEGIN:STANDARD
TZOFFSETFROM:+0000
TZOFFSETTO:+0000
TZNAME:UTC
DTSTART:20200101T000000
END:STANDARD
END:VTIMEZONE
BEGIN:VEVENT
DTSTART;TZID=UTC:20211203T190000
DTEND;TZID=UTC:20211203T190000
DTSTAMP:20260420T034410
CREATED:20260216T133232Z
LAST-MODIFIED:20260217T122646Z
UID:262998-1638558000-1638558000@kellerandapres.com
SUMMARY:Luther Vandross Solo tribute
DESCRIPTION:Luther Vandross Solo tribute \nFil Straughan has worked or alongside Ray Lewis’ Drifters\, Hot Chocolate\, Kool & the Gang\, Ed Sheeran and many others. \nFiL is quite possibly the best Luther Vandross tribute vocalist in the world. It is not simply his vocal ability – he manages to tap into the energies of the song in the same manner that Luther did\, touching the audiences’ hearts with vivid emotion. Consequently\, FiL has shared his Luther Show with audiences all over the world – to rapturous applause\nExpect to hear all the Hits plus a mix of cool Soul\, Motown and R’n’B classics delivered with that smooth\, silky vocal which sets Luther Vandross apart from the rest. \nTicket £12 advance\, £15 on door\, includes entry to Apres\nDoors open 7pm\, Act 9.45pm \nBook Tickets Here \nNote: As a condition of entry to the Bier Keller and Après you will be required to provide photo ID and Fingerprint enrollment. By providing your ID you agree that your information may be used and shared with the police and other authorities. Failure to provide suitable photo ID will result in the refusal of admission. \nPlease note that access to Keller & Après cannot be guaranteed unless tickets have been purchased in advance.
URL:https://kellerandapres.com/event/luther-vandross-solo-tribute-5/
LOCATION:The Bier Keller and Apres Nightclub
END:VEVENT
BEGIN:VEVENT
DTSTART;TZID=UTC:20211204T190000
DTEND;TZID=UTC:20211204T190000
DTSTAMP:20260420T034410
CREATED:20260216T133231Z
LAST-MODIFIED:20260217T122638Z
UID:262969-1638644400-1638644400@kellerandapres.com
SUMMARY:Ultra 90's - SOLD OUT
DESCRIPTION:Ultra 90’s Fresh – 90’s Tribute \nThe 1st and ONLY 90s Tribute Show in the UK and possibly the world!Ultra 90s is the first and only show of its kind taking you back to the most exciting musical movement in decades – the dance era of the 1990’s. It’s fresh\, new\, unique and not to be missed!With very few other acts daring to touch this style of music\, Ultra 90s goes where so many of us want to be taken\, back to our youth. School days\, Uni days\, clubbing\, first holiday without parents… Even the more mature audiences appreciate this show with its exciting arrangements\, powerful vocals and bags of energy.Ultra 90s perform the best classic chart\, dance and club anthems from the 1990s. From Snap! To Faithless\, from Dee-lite to Vanilla Ice\, Ultra 90s guarantees to get any party buzzing. Taking you through House\, Chart\, Dance and Club Classics along with popular Drum and Bass tunes from the 90s – The Ultimate 90s Revival – 90s Nostalgia at it’s best. \nBlow your whistle\, put your hands up in the air and let me hear you say yeah!Ultra 90s in the house! \nDoors open 7pm sct 9.45pm (Standing only in Bier Keller)TICKETS: £12 advance\, £15 on door\, includes entry to Après – Prices will increase after first 50 tickets are soldDoors open 7pm\, Band from 9.30pmBook Tickets Here. \n****PLEASE NOTE****That access to Bier Keller & Après cannot be guaranteed for our special events / tribute nights unless tickets have been purchased in advance. \nAs a condition of entry to the Bier Keller and Après you will be required to provide photo ID and Fingerprint enrollment. By providing your ID you agree that your information may be used and shared with the police and other authorities. Failure to provide suitable photo ID will result in the refusal of admission
URL:https://kellerandapres.com/event/ultra-90s-90s-tribute/
LOCATION:The Bier Keller and Apres Nightclub
END:VEVENT
BEGIN:VEVENT
DTSTART;TZID=UTC:20211210T190000
DTEND;TZID=UTC:20211210T190000
DTSTAMP:20260420T034410
CREATED:20260216T133231Z
LAST-MODIFIED:20260217T122638Z
UID:262968-1639162800-1639162800@kellerandapres.com
SUMMARY:Wow 80's - SOLD OUT
DESCRIPTION:Wow 80’s – 80’s Tribute\nHow do you remember the 1980’s? Watching films like Back To The Future or Footloose\, Maybe dancing the night away to Wham\, Duran Duran and Lionel Richie in your local nightclub?However you remember the decade that brought us Transformers\, leg warmers and the Rubik’s cube WOW 80’s will be sure to get those 80’s juices flowing once more. \nGigging around the UK and Europe for many years all members of WOW 80’s have performed in and founded leading tribute acts such as: Beautiful World (Premier tribute to Take That) ABBA Dayz (The UK’s top Abba tribute for a decade) and Ultimate Madness (Award winning tribute show to the crazy antics of Madness) \nBringing you the amazing sounds of artists such as: Duran Duran\, Madness\, Lionel Richie\, Wet Wet Wet\, Queen\, ABC\, Go West\, Phil Collins\, David Bowie and many more! WOW 80S truly bring colour and excitement to any event. \n£12 advance\, £15 on door\, ticket – Includes entry to ApresDoors open 7pm\, Band 9.45pm \nBook Tickets Here \n****PLEASE NOTE****That access to Bier Keller & Après cannot be guaranteed for our special events / tribute nights unless tickets have been purchased in advance. \nAs a condition of entry to the Bier Keller and Après you will be required to provide photo ID and Fingerprint enrollment. By providing your ID you agree that your information may be used and shared with the police and other authorities. Failure to provide suitable photo ID will result in the refusal of admission
URL:https://kellerandapres.com/event/wow-80s-80s-tribute-2/
LOCATION:The Bier Keller and Apres Nightclub
END:VEVENT
BEGIN:VEVENT
DTSTART;TZID=UTC:20211211T190000
DTEND;TZID=UTC:20211211T190000
DTSTAMP:20260420T034411
CREATED:20260216T133229Z
LAST-MODIFIED:20260217T122636Z
UID:262959-1639249200-1639249200@kellerandapres.com
SUMMARY:George Michael Solo Tribute
DESCRIPTION:George Michael Tribute \nAward Winning Singer Songwriter and former TV chat show host Johnny Mack In the past he has received rave reviews from celebrities such as Sir Tom Jones\, Peter Andre\, Stephen Mullhern\, Dom Joly and Chesney Hawkes to name a few…. and has also supported various Xfactor and TV stars over the years as well \nThis authentic high energy Tribute Show dedicated to the Music of George Michael\, this show has it all… The Looks\, The Voice\, The Moves it’s a show not to be missed\, and is performed by an award winning singer songwriter in his own rights\, it truly is a great nights entertainment with Costume changes as we take you through the decades of George Michael \n  \nTickets £12 advance\, £15 on door includes entry to ApresDoors open 7pm\, act 9.45pmBook Tickets Here \nNote: As a condition of entry to the Bier Keller and Après you will be required to provide photo ID and Fingerprint enrolment . By providing your ID you agree that your information may be used and shared with the police and other authorities. Failure to provide suitable photo ID will result in the refusal of admission \n \nPlease note that access to Keller & Après cannot be guaranteed unless tickets have been purchased in advance
URL:https://kellerandapres.com/event/george-michael-solo-tribute-3/
LOCATION:The Bier Keller and Apres Nightclub
END:VEVENT
BEGIN:VEVENT
DTSTART;TZID=UTC:20211217T190000
DTEND;TZID=UTC:20211217T190000
DTSTAMP:20260420T034411
CREATED:20260216T133229Z
LAST-MODIFIED:20260217T122636Z
UID:262960-1639767600-1639767600@kellerandapres.com
SUMMARY:The Take That Experience
DESCRIPTION:The Take That Experience \nThe Take That Experience are one of the finest tributes to Take That across the UK and Europe.This Take That Tribute Band provides the audience with a show that has all the versatility\, experience and magic of the real Take That!With their amazing vocals\, stunning costumes and electrifying dance routines.‘The Take That Experience’ deliver a show presented with all the versatility\, humour\, experience and magic of the real thing! \nTICKETS: £12 in advance £15 on the door\, includes entry to AprèsDoors open 7pm\, Act 9.45pm (Standing only in Bier Keller)Book Tickets Here \nPlease note that access to Keller & Après cannot be guaranteed unless tickets have been purchased in advance. \nNote: As a condition of entry to the Bier Keller and Après you will be required to provide photo ID and Fingerprint enrollment. By providing your ID you agree that your information may be used and shared with the police and other authorities. Failure to provide suitable photo ID will result in the refusal of admission
URL:https://kellerandapres.com/event/the-take-that-experience-2/
LOCATION:The Bier Keller and Apres Nightclub
END:VEVENT
BEGIN:VEVENT
DTSTART;TZID=UTC:20211218T190000
DTEND;TZID=UTC:20211218T190000
DTSTAMP:20260420T034411
CREATED:20260216T133234Z
LAST-MODIFIED:20260217T122700Z
UID:263030-1639854000-1639854000@kellerandapres.com
SUMMARY:Abba's Angels - Abba Tribute
DESCRIPTION:Abba’s Angels\, one of the UK’s premier Abba Tribute Bands have been established since 2000. Featuring some incredibly talented singers and musicians they offer one of the most captivating and authentic tributes to one of the greatest bands of all time. \nThey have appeared on BBC 1’s the One Show ( see video below right)\, Children In Need\, Sky1 TV\, featured on Star for a Night\, been recommended in the Sun newspaper and on the front cover of a Sunday Times Magazine. Abba’s Angels have even been interviewed on Sky News in front of half a million viewers regarding the rumours of an Abba Reunion! \nTICKETS: £12 in advance £15 on the door\, includes entry to Après\nDoors open 7pm\, band 9.45pm (Standing only in Bier Keller)\nBook Tickets Here \n****PLEASE NOTE****\nThat access to Bier Keller & Après cannot be guaranteed for our special events / tribute nights unless tickets have been purchased in advance. \nAs a condition of entry to the Bier Keller and Après you will be required to provide photo ID and Fingerprint enrollment. By providing your ID you agree that your information may be used and shared with the police and other authorities. Failure to provide suitable photo ID will result in the refusal of admission.
URL:https://kellerandapres.com/event/abbas-angels-abba-tribute-3/
LOCATION:The Bier Keller and Apres Nightclub
END:VEVENT
BEGIN:VEVENT
DTSTART;TZID=UTC:20211231T190000
DTEND;TZID=UTC:20211231T190000
DTSTAMP:20260420T034411
CREATED:20260216T133229Z
LAST-MODIFIED:20260217T122636Z
UID:262961-1640977200-1640977200@kellerandapres.com
SUMMARY:Daft! NYE Party - Keller & Apres  - SOLD OUT
DESCRIPTION:**SOLD OUT** \nDaft! New Years Eve Party \n!Daft! are a party rock cover band comprising 5 professional standard musicians who perform high energy and dynamic gigs. Their sets and gigs are designed to be fun\, enthusiastic and crammed with recognisable anthemic tracks from artists including Queen\, Guns N’ Roses\, The Killers\, The Fratellis\, Green Day\, Elvis\, Bon Jovi\, Madness\, Kaiser Chiefs\, Oasis\, Michael Jackson… even ABBA and Take That\, plus many more legendary groups. \nTickets – £10 SOLD OUTTickets – £15 SOLD OUTTickets – £20 SOLD OUT \nTicket includes entry to ApresDoors open 7pm. band 9.45pm (Standing only in Bier Keller) \nFrom Friday 17th December the requirement to show an NHS COVID pass will come into force for the Keller Live Music Events and Après Nightclub. All guests MUST show proof of having been double vaccinated or a lateral flow test. This test must have been completed within the 48 hour period prior to entering the venue(s). Both the NHS COVID pass or lateral flow test result must be presented on a mobile device via the NHS App. There will be no exceptions as this is in line with the Government regulations \n****PLEASE NOTE****That access to Bier Keller & Après cannot be guaranteed for our special events / tribute nights unless tickets have been purchased in advance. \nNote: As a condition of entry to the Bier Keller and Après you will be required to provide photo ID and Fingerprint enrollment. By providing your ID you agree that your information may be used and shared with the police and other authorities. Failure to provide suitable photo ID will result in the refusal of admission.
URL:https://kellerandapres.com/event/daft-nye-party-keller-apres/
LOCATION:The Bier Keller and Apres Nightclub
END:VEVENT
END:VCALENDAR