BEGIN:VCALENDAR
VERSION:2.0
PRODID:-//Keller Entertainment &amp; Apres Nightclub - ECPv6.15.20//NONSGML v1.0//EN
CALSCALE:GREGORIAN
METHOD:PUBLISH
X-ORIGINAL-URL:https://kellerandapres.com
X-WR-CALDESC:Events for Keller Entertainment &amp; Apres Nightclub
REFRESH-INTERVAL;VALUE=DURATION:PT1H
X-Robots-Tag:noindex
X-PUBLISHED-TTL:PT1H
BEGIN:VTIMEZONE
TZID:UTC
BEGIN:STANDARD
TZOFFSETFROM:+0000
TZOFFSETTO:+0000
TZNAME:UTC
DTSTART:20210101T000000
END:STANDARD
END:VTIMEZONE
BEGIN:VEVENT
DTSTART;TZID=UTC:20220101T190000
DTEND;TZID=UTC:20220101T190000
DTSTAMP:20260420T020950
CREATED:20260216T133234Z
LAST-MODIFIED:20260216T133234Z
UID:263035-1641063600-1641063600@kellerandapres.com
SUMMARY:Bier Keller & Après  closed
DESCRIPTION:Bier Keller & Après  closed
URL:https://kellerandapres.com/event/bier-keller-apres-closed-4/
LOCATION:The Bier Keller and Apres Nightclub
END:VEVENT
BEGIN:VEVENT
DTSTART;TZID=UTC:20220102T190000
DTEND;TZID=UTC:20220102T190000
DTSTAMP:20260420T020950
CREATED:20260216T133234Z
LAST-MODIFIED:20260216T133234Z
UID:263036-1641150000-1641150000@kellerandapres.com
SUMMARY:Bier Keller & Après  closed
DESCRIPTION:Bier Keller & Après  closed
URL:https://kellerandapres.com/event/bier-keller-apres-closed-5/
LOCATION:The Bier Keller and Apres Nightclub
END:VEVENT
BEGIN:VEVENT
DTSTART;TZID=UTC:20220107T190000
DTEND;TZID=UTC:20220107T190000
DTSTAMP:20260420T020950
CREATED:20260216T133234Z
LAST-MODIFIED:20260217T122701Z
UID:263032-1641582000-1641582000@kellerandapres.com
SUMMARY:Bier Keller & Après  closed
DESCRIPTION:Bier Keller & Après  closed
URL:https://kellerandapres.com/event/bier-keller-apres-closed/
LOCATION:The Bier Keller and Apres Nightclub
END:VEVENT
BEGIN:VEVENT
DTSTART;TZID=UTC:20220108T190000
DTEND;TZID=UTC:20220108T190000
DTSTAMP:20260420T020950
CREATED:20260216T133234Z
LAST-MODIFIED:20260216T133234Z
UID:263034-1641668400-1641668400@kellerandapres.com
SUMMARY:Bier Keller & Après  closed
DESCRIPTION:Bier Keller & Après  closed
URL:https://kellerandapres.com/event/bier-keller-apres-closed-3/
LOCATION:The Bier Keller and Apres Nightclub
END:VEVENT
BEGIN:VEVENT
DTSTART;TZID=UTC:20220109T190000
DTEND;TZID=UTC:20220109T190000
DTSTAMP:20260420T020950
CREATED:20260216T133234Z
LAST-MODIFIED:20260217T122702Z
UID:263033-1641754800-1641754800@kellerandapres.com
SUMMARY:Bier Keller & Après  closed
DESCRIPTION:Bier Keller & Après  closed
URL:https://kellerandapres.com/event/bier-keller-apres-closed-2/
LOCATION:The Bier Keller and Apres Nightclub
END:VEVENT
BEGIN:VEVENT
DTSTART;TZID=UTC:20220114T190000
DTEND;TZID=UTC:20220114T190000
DTSTAMP:20260420T020950
CREATED:20260216T133234Z
LAST-MODIFIED:20260216T133234Z
UID:263038-1642186800-1642186800@kellerandapres.com
SUMMARY:These Certain People
DESCRIPTION:These Certain People \nThese Certain People’ are a six-piece band who infuse an impressive energy within every live set. With a colourful repertoire extending from Buggles and Jesse J to The Killers and ABBA and from Cream to Faithless and so on… TCP deliver tight harmonies and produce a professional sound that has been honed during the band’s extensive experience of playing live music\, of late TCP were asked to perform at the 2 day Henley Rewind Festival which attracts up to 40\,000 visitors each year and are hoping to return this year.\nThe list of Festivals they are performing at so far this year is growing fast. Drawing on the knowledge from such diverse backgrounds has allowed TCP to create a broad appeal to people of all generations and tastes. TCP are therefore\, guaranteed to rock the Bier Keller \nDoors open 7pm\, Act 9.45pm\n(Standing only in Bier Keller) \nFrom Friday 17th December the requirement to show an NHS COVID pass will come into force for the Keller Live Music Events and Après Nightclub. All guests MUST show proof of having been double vaccinated or a lateral flow test. This test must have been completed within the 48 hour period prior to entering the venue(s). Both the NHS COVID pass or lateral flow test result must be presented on a mobile device via the NHS App. There will be no exceptions as this is in line with the Government regulations \nNote: As a condition of entry to the Bier Keller and Après you will be required to provide photo ID and Fingerprint enrollment. By providing your ID you agree that your information may be used and shared with the police and other authorities. Failure to provide suitable photo ID will result in the refusal of admission
URL:https://kellerandapres.com/event/these-certain-people/
LOCATION:The Bier Keller and Apres Nightclub
END:VEVENT
BEGIN:VEVENT
DTSTART;TZID=UTC:20220115T190000
DTEND;TZID=UTC:20220115T190000
DTSTAMP:20260420T020950
CREATED:20260216T133234Z
LAST-MODIFIED:20260216T133234Z
UID:263043-1642273200-1642273200@kellerandapres.com
SUMMARY:Hubba Bubba
DESCRIPTION:Hubba Bubba are the ultimate party band playing the funkiest tunes to keep your feet moving all night long. Nothing but classic floor fillers from the 70’s with the occasional cheeky twist – all played in the right way by top class musicians. \nLet’s take you back to the disco funky 70s with the hottest hits of the time\, including Chic\, Sister Sledge\, Stevie Wonder\, The Tramps\, Earth\, Wind and Fire\, Average White Band and many more. Why not slip on your disco attire as well \nDoors open 7pm\, Band 9.45pm \nFrom Friday 17th December the requirement to show an NHS COVID pass will come into force for the Keller Live Music Events and Après Nightclub. All guests MUST show proof of having been double vaccinated or a lateral flow test. This test must have been completed within the 48 hour period prior to entering the venue(s). Both the NHS COVID pass or lateral flow test result must be presented on a mobile device via the NHS App. There will be no exceptions as this is in line with the Government regulations \nNote: As a condition of entry to the Bier Keller and Après you will be required to provide photo ID and Fingerprint enrollment. By providing your ID you agree that your information may be used and shared with the police and other authorities. Failure to provide suitable photo ID will result in the refusal of admission
URL:https://kellerandapres.com/event/hubba-bubba/
LOCATION:The Bier Keller and Apres Nightclub
END:VEVENT
BEGIN:VEVENT
DTSTART;TZID=UTC:20220115T210000
DTEND;TZID=UTC:20220115T210000
DTSTAMP:20260420T020950
CREATED:20260216T133234Z
LAST-MODIFIED:20260216T133234Z
UID:263044-1642280400-1642280400@kellerandapres.com
SUMMARY:APRÈS - I got soul presents soul sister
DESCRIPTION:I Got Soul Presents Soul Sisters. \n3 Top female soul Djs on one night playing the very best in soul funk boogie RnB jazz soulful house.\nGayle Dumont\, June Furlong & Lucy Creasey\n9pm – 2.30am\n\nTickets: £7 online £10 otd\nBook Tickets Here \nFrom Friday 17th December the requirement to show an NHS COVID pass will come into force for the Keller Live Music Events and Après Nightclub. All guests MUST show proof of having been double vaccinated or a lateral flow test. This test must have been completed within the 48 hour period prior to entering the venue(s). Both the NHS COVID pass or lateral flow test result must be presented on a mobile device via the NHS App. There will be no exceptions as this is in line with the Government regulations \nNote: As a condition of entry to the Bier Keller and Après you will be required to provide photo ID and Fingerprint enrollment. By providing your ID you agree that your information may be used and shared with the police and other authorities. Failure to provide suitable photo ID will result in the refusal of admission
URL:https://kellerandapres.com/event/apres-i-got-soul-presents-soul-sister/
LOCATION:The Bier Keller and Apres Nightclub
END:VEVENT
BEGIN:VEVENT
DTSTART;TZID=UTC:20220121T190000
DTEND;TZID=UTC:20220121T190000
DTSTAMP:20260420T020950
CREATED:20260216T133234Z
LAST-MODIFIED:20260216T133234Z
UID:263040-1642791600-1642791600@kellerandapres.com
SUMMARY:I Got Soul - Soul Tribute Band & Funky House Event
DESCRIPTION:I Got Soul – Soul Tribute Band & Funky House Event \nGet your 2022 new year season in gear with our Tribute night with Soulcity.\nSOUL CITY is on a mission to summon up the spirit of the classic Soul\, Disco and Funk era of the 1960’s\, 70’s and early 80’s.\nWe’re all about getting up\, and getting down!\nOur recipe is simple: First select the all-time classics from the Motown\, Stax and Phili songbooks\, blend with the finest Disco and Funk grooves\, then add a pinch of spice from more modern artists who tip their hat to the glory days.\nResult? The finest collection of all-night dance floor fillers you’ll ever hear! \nApres:\nJaycee B\nDj Trigga\nGuest Mc’s\n£8 £10 2nd Release MOTD\nBook Tickets Here \nFrom Friday 17th December the requirement to show an NHS COVID pass will come into force for the Keller Live Music Events and Après Nightclub. All guests MUST show proof of having been double vaccinated or a lateral flow test. This test must have been completed within the 48 hour period prior to entering the venue(s). Both the NHS COVID pass or lateral flow test result must be presented on a mobile device via the NHS App. There will be no exceptions as this is in line with the Government regulations \nNote: As a condition of entry to the Bier Keller and Après you will be required to provide photo ID and Fingerprint enrollment. By providing your ID you agree that your information may be used and shared with the police and other authorities. Failure to provide suitable photo ID will result in the refusal of admission
URL:https://kellerandapres.com/event/i-got-soul-soul-tribute-band-funky-house-event/
LOCATION:The Bier Keller and Apres Nightclub
END:VEVENT
BEGIN:VEVENT
DTSTART;TZID=UTC:20220122T190000
DTEND;TZID=UTC:20220122T190000
DTSTAMP:20260420T020950
CREATED:20260216T133234Z
LAST-MODIFIED:20260216T133234Z
UID:263037-1642878000-1642878000@kellerandapres.com
SUMMARY:Ultimate Party Band
DESCRIPTION:Ultimate Party Band are one of the best & most sought after function bands in the UK.\nEXPLOSIVE\, HIGH ENERGY\, A NON STOP MUSICAL THRILL RIDE. \nThe With Ultimate Party Band its all board the party train for a non-stop medley of all your favourite tunes including the greatest movie soundtracks & the biggest tunes from the 80’s\, 90’s\, the noughties and now. \nDoors open 7pm\, Act 9.45pm\n(Standing only in Bier Keller) \nFrom Friday 17th December the requirement to show an NHS COVID pass will come into force for the Keller Live Music Events and Après Nightclub. All guests MUST show proof of having been double vaccinated or a lateral flow test. This test must have been completed within the 48 hour period prior to entering the venue(s). Both the NHS COVID pass or lateral flow test result must be presented on a mobile device via the NHS App. There will be no exceptions as this is in line with the Government regulations \nNote: As a condition of entry to the Bier Keller and Après you will be required to provide photo ID and Fingerprint enrollment. By providing your ID you agree that your information may be used and shared with the police and other authorities. Failure to provide suitable photo ID will result in the refusal of admission
URL:https://kellerandapres.com/event/ultimate-party-band-2/
LOCATION:The Bier Keller and Apres Nightclub
END:VEVENT
BEGIN:VEVENT
DTSTART;TZID=UTC:20220128T190000
DTEND;TZID=UTC:20220128T190000
DTSTAMP:20260420T020950
CREATED:20260216T133234Z
LAST-MODIFIED:20260216T133234Z
UID:263041-1643396400-1643396400@kellerandapres.com
SUMMARY:All About You
DESCRIPTION:All About You are a professional\, highly energetic & finely skilled 4-piece party showband. They perform over 150+ gigs a year & cover a wide range of classic 60’s-modern day Pop\, Rock\, Funk & Soul. \nThroughout all their live shows ‘All About You’ ensure the dancefloor is always full whatever the occasion! \nDoors open 7pm\, Band from 9.30pm \nNote: As a condition of entry to the Bier Keller and Après you will be required to provide photo ID and Fingerprint enrollment. By providing your ID you agree that your information may be used and shared with the police and other authorities. Failure to provide suitable photo ID will result in the refusal of admission
URL:https://kellerandapres.com/event/all-about-you/
LOCATION:The Bier Keller and Apres Nightclub
END:VEVENT
BEGIN:VEVENT
DTSTART;TZID=UTC:20220129T190000
DTEND;TZID=UTC:20220129T190000
DTSTAMP:20260420T020950
CREATED:20260216T133234Z
LAST-MODIFIED:20260216T133234Z
UID:263039-1643482800-1643482800@kellerandapres.com
SUMMARY:Crazy Little Thing Called Queen - Queen Tribute
DESCRIPTION:An outstanding\, exciting and dynamic tribute to the worlds’ greatest and most iconic rock band. \nYvan Silva’s incredible vocal power and showmanship\, along with the finest dedicated Queen tribute musicians\, deliver an unforgettable show\, guaranteed to get you on your feet and rocking out to Queen’s greatest hits.\nThis electrifying show includes\, to name a few\, Radio Ga Ga\, I Want It All\, Don’t Stop Me Now\, One Vision\, A Kind Of Magic\, We are The Champions\, We Will Rock You\, I Want To Break Free\, Somebody To Love and of course Bohemian Rhapsody. Crazy Little Thing Called Queen is a live extravaganza\, bringing to you\, a respectful homage\, to the incredible force that was\, and still is Freddie Mercury and Queen. \nTickets: £10 advance\, £12 on door\nDoors open 7pm\, band 9.45pm\nBook Tickets Here \nNote: As a condition of entry to the Bier Keller and Après you will be required to provide photo ID and Fingerprint enrollment. By providing your ID you agree that your information may be used and shared with the police and other authorities. Failure to provide suitable photo ID will result in the refusal of admission
URL:https://kellerandapres.com/event/crazy-little-thing-called-queen-queen-tribute/
LOCATION:The Bier Keller and Apres Nightclub
END:VEVENT
BEGIN:VEVENT
DTSTART;TZID=UTC:20220131T190000
DTEND;TZID=UTC:20220131T190000
DTSTAMP:20260420T020950
CREATED:20260216T133237Z
LAST-MODIFIED:20260216T133237Z
UID:263084-1643655600-1643655600@kellerandapres.com
SUMMARY:Portsmouth v Charlton
DESCRIPTION:Portsmouth v Charlton
URL:https://kellerandapres.com/event/portsmouth-v-charlton/
LOCATION:The Bier Keller and Apres Nightclub
END:VEVENT
END:VCALENDAR