BEGIN:VCALENDAR
VERSION:2.0
PRODID:-//Keller Entertainment &amp; Apres Nightclub - ECPv6.15.20//NONSGML v1.0//EN
CALSCALE:GREGORIAN
METHOD:PUBLISH
X-WR-CALNAME:Keller Entertainment &amp; Apres Nightclub
X-ORIGINAL-URL:https://kellerandapres.com
X-WR-CALDESC:Events for Keller Entertainment &amp; Apres Nightclub
REFRESH-INTERVAL;VALUE=DURATION:PT1H
X-Robots-Tag:noindex
X-PUBLISHED-TTL:PT1H
BEGIN:VTIMEZONE
TZID:UTC
BEGIN:STANDARD
TZOFFSETFROM:+0000
TZOFFSETTO:+0000
TZNAME:UTC
DTSTART:20210101T000000
END:STANDARD
END:VTIMEZONE
BEGIN:VEVENT
DTSTART;TZID=UTC:20220304T190000
DTEND;TZID=UTC:20220304T190000
DTSTAMP:20260419T231536
CREATED:20260216T133233Z
LAST-MODIFIED:20260217T122652Z
UID:263011-1646420400-1646420400@kellerandapres.com
SUMMARY:Wow 80's - 80's Tribute
DESCRIPTION:Wow 80’s – 80’s Tribute \nHow do you remember the 1980’s? Watching films like Back To The Future or Footloose\, Maybe dancing the night away to Wham\, Duran Duran and Lionel Richie in your local nightclub?\nHowever you remember the decade that brought us Transformers\, leg warmers and the Rubik’s cube WOW 80’s will be sure to get those 80’s juices flowing once more. \nGigging around the UK and Europe for many years all members of WOW 80’s have performed in and founded leading tribute acts such as: Beautiful World (Premier tribute to Take That) ABBA Dayz (The UK’s top Abba tribute for a decade) and Ultimate Madness (Award winning tribute show to the crazy antics of Madness) \nBringing you the amazing sounds of artists such as: Duran Duran\, Madness\, Lionel Richie\, Wet Wet Wet\, Queen\, ABC\, Go West\, Phil Collins\, David Bowie and many more! WOW 80S truly bring colour and excitement to any event. \n£10 advance\, £12 on door\, ticket – Includes entry to Apres\nDoors open 7pm\, Band 9.45pm \nBook Tickets Here \n****PLEASE NOTE****\nThat access to Bier Keller & Après cannot be guaranteed for our special events / tribute nights unless tickets have been purchased in advance. \nAs a condition of entry to the Bier Keller and Après you will be required to provide photo ID and Fingerprint enrollment. By providing your ID you agree that your information may be used and shared with the police and other authorities. Failure to provide suitable photo ID will result in the refusal of admission
URL:https://kellerandapres.com/event/wow-80s-80s-tribute-3/
LOCATION:The Bier Keller and Apres Nightclub
END:VEVENT
BEGIN:VEVENT
DTSTART;TZID=UTC:20220305T190000
DTEND;TZID=UTC:20220305T190000
DTSTAMP:20260419T231536
CREATED:20260216T133233Z
LAST-MODIFIED:20260217T122650Z
UID:263006-1646506800-1646506800@kellerandapres.com
SUMMARY:70s Tribute - The Ultimate Night at the Disco
DESCRIPTION:70s Tribute – The Ultimate Night at the Disco \nThe Ultimate Night at the Disco band promise a show of nostalgia\, throwbacks and comebacks. A seventies disco soundtrack selection delivered in the true styling’s of Donna Summer\, Sylvester\, Gloria Gaynor\, Chic to name a few.\nPerformed by our 6 experienced and world travelled band members. Come experience the UNAT \nTickets: £10 advance\, £12 on the door (Includes entry to Apres)\nDoors open 7pm\, Band 9.45pm \nBook Tickets Here \nNote: As a condition of entry to the Bier Keller and Après you will be required to provide photo ID. By providing your ID you agree that your information may be used and shared with the police and other authorities.\nFailure to provide suitable photo ID will result in the refusal of admission \nPlease note that access to Keller & Après cannot be guaranteed unless tickets have been purchased in advance.
URL:https://kellerandapres.com/event/the-ultimate-night-at-the-disco-2/
LOCATION:The Bier Keller and Apres Nightclub
END:VEVENT
BEGIN:VEVENT
DTSTART;TZID=UTC:20220311T190000
DTEND;TZID=UTC:20220311T190000
DTSTAMP:20260419T231536
CREATED:20260216T133234Z
LAST-MODIFIED:20260216T133234Z
UID:263045-1647025200-1647025200@kellerandapres.com
SUMMARY:BIER KELLER & APRÈS CLOSED - PRIVATE PARTY
DESCRIPTION:BIER KELLER & APRÈS CLOSED – PRIVATE PARTY
URL:https://kellerandapres.com/event/bier-keller-apres-closed-private-party/
LOCATION:The Bier Keller and Apres Nightclub
END:VEVENT
BEGIN:VEVENT
DTSTART;TZID=UTC:20220312T190000
DTEND;TZID=UTC:20220312T190000
DTSTAMP:20260419T231536
CREATED:20260216T133234Z
LAST-MODIFIED:20260216T133234Z
UID:263050-1647111600-1647111600@kellerandapres.com
SUMMARY:!Daft!
DESCRIPTION:!Daft! are a party rock cover band comprising 5 professional standard musicians who perform high energy and dynamic gigs. Their sets and gigs are designed to be fun\, enthusiastic and crammed with recognisable anthemic tracks from artists including Queen\, Guns N’ Roses\, The Killers\, The Fratellis\, Green Day\, Elvis\, Bon Jovi\, Madness\, Kaiser Chiefs\, Oasis\, Michael Jackson… even ABBA and Take That\, plus many more legendary groups. \nDoors open 7pm\, band 9.45pm (Ticket includes entry to Apres) \nGet yourself a free ticket for !Daft – tickets are limited (These have now gone)\n** Complimentary entry to the Keller and Après (usually £10)**\n** Use of complementary entry privilege up till 10 pm** \nBook Tickets Here \nNote: As a condition of entry to the Bier Keller and Après you will be required to provide photo ID and Fingerprint enrollment. By providing your ID you agree that your information may be used and shared with the police and other authorities. Failure to provide suitable photo ID will result in the refusal of admission
URL:https://kellerandapres.com/event/daft-2/
LOCATION:The Bier Keller and Apres Nightclub
END:VEVENT
BEGIN:VEVENT
DTSTART;TZID=UTC:20220318T190000
DTEND;TZID=UTC:20220318T190000
DTSTAMP:20260419T231536
CREATED:20260216T133234Z
LAST-MODIFIED:20260216T133234Z
UID:263046-1647630000-1647630000@kellerandapres.com
SUMMARY:Bier Keller Closed Private Party
DESCRIPTION:Bier Keller Closed Private Party
URL:https://kellerandapres.com/event/bier-keller-closed-private-party-3/
LOCATION:The Bier Keller and Apres Nightclub
END:VEVENT
BEGIN:VEVENT
DTSTART;TZID=UTC:20220318T210000
DTEND;TZID=UTC:20220318T210000
DTSTAMP:20260419T231536
CREATED:20260216T133237Z
LAST-MODIFIED:20260216T133237Z
UID:263094-1647637200-1647637200@kellerandapres.com
SUMMARY:Apres: I Got Soul Present DJ Luck & MC Neat
DESCRIPTION:Apres: I Got Soul Present DJ Luck & MC Neat – Doors open 9pm \nDJ LUCK & MC NEAT\, two of the longest serving acts in the UKG scene Neat are coming to party with us at Après nightclub. The MOBO Award winning charismatic duo are best known for the UK Top 10 hits “With A Little Bit of Luck” “Master Blaster” & “Piano Loco” and we can’t wait to welcome DJ Luck & MC Neat to the decks. \nBrace yourself for non-stop partying and expect quality sounds and a captivating atmosphere for a total night of entertainment.\nYou can definitely expect some amazing classic tunes so join a truly buzzing crowd and booty shake on the dance floor to an infectious mix of hip-hop\, house and R&B favourites from our resident DJs at what will be a banging Après Nightclub until the early hours. \nMUSIC: Commercial\, RnB Remixes\, Garage\, Chart & Hip Hop\, House & Old Skool \nEarly Bird £10 ‘Limited to 20’\n2nd Release £12.50 ‘Limited to 30’\n3rd release £15 more OTD\nBook Tickets Here \nSupports by:\nJaycee B\nMDK \nLIMITED ADVANCE TICKETS AVAILABLE\nA TICKET MEANS GUARANTEED ENTRY \n****PLEASE NOTE**** \nThat access to Après cannot be guaranteed for our special events / tribute nights unless tickets have been purchased in advance. \nAs a condition of entry to the Bier Keller and Après you will be required to provide photo ID . By providing your ID you agree that your information may be used and shared with the police and other authorities. Failure to provide suitable photo ID will result in the refusal of admission. NO ID\, NO ENTRY
URL:https://kellerandapres.com/event/apres-i-got-soul-present-dj-luck-mc-neat/
LOCATION:The Bier Keller and Apres Nightclub
END:VEVENT
BEGIN:VEVENT
DTSTART;TZID=UTC:20220319T190000
DTEND;TZID=UTC:20220319T190000
DTSTAMP:20260419T231536
CREATED:20260216T133237Z
LAST-MODIFIED:20260216T133237Z
UID:263075-1647716400-1647716400@kellerandapres.com
SUMMARY:THE REPLAYS
DESCRIPTION:The Replays\, a live professional function and party band specialising in 60s and 70s Rock n Roll. We perform around the UK\, but are based in the Surrey\, Berkshire\, and London areas. Our band members are all incredibly hard-working professionals with a depth of industry experience\, training\, musical knowledge\, and credits to their name. \nCovering all the well-known songs from the 60s and 70s our repertoire includes big hit songs from The Beatles\, The Stones\, The Kinks\, The Troggs\, The Who and many more. This means that we can tailor our musical performance to suit the event. No matter what the occasion\, our live band will deliver a high energy performance that will impress your guests and make event a great success!\nThe band features Paul Hudson on vocals and guitar formerly of “Rocky Sharpe and the Replays” whose top twenty hits include “Ramalama Ding Dong” and “Shout Shout”. Paul also wrote the crazy Rock n’ Roll feature ‘Straighten out the Rug’ for Hollywood movie star Val Kilmer which Val performed in the comedy film spoof ‘TOP SECRET’ (Paramount Pictures). \nDoors open 7pm. band 9.45pm (Standing only in Bier Keller) \nNote: As a condition of entry to the Bier Keller and Après you will be required to provide photo ID and Fingerprint enrollment. By providing your ID you agree that your information may be used and shared with the police and other authorities. Failure to provide suitable photo ID will result in the refusal of admission. NO ID\, NO ENTRY
URL:https://kellerandapres.com/event/the-replays-band/
LOCATION:The Bier Keller and Apres Nightclub
END:VEVENT
BEGIN:VEVENT
DTSTART;TZID=UTC:20220325T190000
DTEND;TZID=UTC:20220325T190000
DTSTAMP:20260419T231536
CREATED:20260216T133234Z
LAST-MODIFIED:20260216T133234Z
UID:263049-1648234800-1648234800@kellerandapres.com
SUMMARY:I Got Soul Presents - B Funkt
DESCRIPTION:B-funkt is an 11 piece funk/soul/rare groove outfit based throughout Basingstoke & neighbouring areas. We consist of Darrell’s soulful lead vocals\, supported by two dynamic backing vocalists. With a monumental horn section and a tight\, energetic back-line\, these members come together to create one of the finest funk bands in the area. \nDoors open 7pm\, band 9.45pm\nTicket includes entry to Apres\nBook Tickets Here \nNote: As a condition of entry to the Bier Keller and Après you will be required to provide photo ID and Fingerprint enrollment. By providing your ID you agree that your information may be used and shared with the police and other authorities. Failure to provide suitable photo ID will result in the refusal of admission
URL:https://kellerandapres.com/event/i-got-soul-presents-b-funkt/
LOCATION:The Bier Keller and Apres Nightclub
END:VEVENT
BEGIN:VEVENT
DTSTART;TZID=UTC:20220326T190000
DTEND;TZID=UTC:20220326T190000
DTSTAMP:20260419T231536
CREATED:20260216T133233Z
LAST-MODIFIED:20260217T122651Z
UID:263008-1648321200-1648321200@kellerandapres.com
SUMMARY:Solid Groove foundation - Soul\, Motown & RnB Tribute
DESCRIPTION:Solid Groove foundation – Soul\, Motown & RnB Tribute \nSolid Groove Foundation are a professional premium quality Soul\, RnB\, Dance and Disco covers band available for Weddings\, Corporate events and private parties. The Midlands based 5-piece band travel UK wide\, Internationally and offer a show that will leave your guests talking about your event for years to come.\nThe band cover a huge repertoire of classic songs that will cater to all your guests and will leave your audience demanding more. \nTickets: £10 advance\, £12 on door – Doors open 7pm\, act 9.45pm\nBook Tickets Here \nNote: As a condition of entry to the Bier Keller and Après you will be required to provide photo ID and Fingerprint enrolment . By providing your ID you agree that your information may be used and shared with the police and other authorities. Failure to provide suitable photo ID will result in the refusal of admission \nPlease note that access to Keller & Après cannot be guaranteed unless tickets have been purchased in advance.
URL:https://kellerandapres.com/event/solid-groove-foundation-soul-motown-rnb-tribute-3/
LOCATION:The Bier Keller and Apres Nightclub
END:VEVENT
END:VCALENDAR