BEGIN:VCALENDAR
VERSION:2.0
PRODID:-//Keller Entertainment &amp; Apres Nightclub - ECPv6.15.20//NONSGML v1.0//EN
CALSCALE:GREGORIAN
METHOD:PUBLISH
X-WR-CALNAME:Keller Entertainment &amp; Apres Nightclub
X-ORIGINAL-URL:https://kellerandapres.com
X-WR-CALDESC:Events for Keller Entertainment &amp; Apres Nightclub
REFRESH-INTERVAL;VALUE=DURATION:PT1H
X-Robots-Tag:noindex
X-PUBLISHED-TTL:PT1H
BEGIN:VTIMEZONE
TZID:UTC
BEGIN:STANDARD
TZOFFSETFROM:+0000
TZOFFSETTO:+0000
TZNAME:UTC
DTSTART:20210101T000000
END:STANDARD
END:VTIMEZONE
BEGIN:VEVENT
DTSTART;TZID=UTC:20220401T190000
DTEND;TZID=UTC:20220401T190000
DTSTAMP:20260419T215037
CREATED:20260216T133233Z
LAST-MODIFIED:20260217T122653Z
UID:263013-1648839600-1648839600@kellerandapres.com
SUMMARY:21st Century Abba - Abba Tribute
DESCRIPTION:THE ULTIMATE ABBA TRIBUTE BAND! BRINGING THE MUSIC OF ABBA TO A NEW GENERATION \nABBA is back\, live on stage in the form of 21st Century Abba; the award-winning LIVE ABBA Tribute Band that plays all the best songs from your favourite Super Swedes. 21st Century Abba will have you up dancing\, cheering for more and leaving as Dancing Queens! Get ready for the experience of a lifetime! \nWE BRING ABBA TO THE 21ST CENTURY\nOur Tribute Band has been a fan-favourite for many years. Our whole crew uses technology and amazing vocals to provide the best on-stage experience for our fabulous fans who will feel like they’re in the presence of the real ABBA! \nTICKETS: £10 in advance £12 on the door\, includes entry to Après\nDoors open 7pm\, band 9.45pm (Standing only in Bier Keller)\nBook Tickets Here \n****PLEASE NOTE****\nThat access to Bier Keller & Après cannot be guaranteed for our special events / tribute nights unless tickets have been purchased in advance. \nAs a condition of entry to the Bier Keller and Après you will be required to provide photo ID and Fingerprint enrollment. By providing your ID you agree that your information may be used and shared with the police and other authorities. Failure to provide suitable photo ID will result in the refusal of admission.
URL:https://kellerandapres.com/event/21st-century-abba-2/
LOCATION:The Bier Keller and Apres Nightclub
END:VEVENT
BEGIN:VEVENT
DTSTART;TZID=UTC:20220402T190000
DTEND;TZID=UTC:20220402T190000
DTSTAMP:20260419T215037
CREATED:20260216T133237Z
LAST-MODIFIED:20260216T133237Z
UID:263078-1648926000-1648926000@kellerandapres.com
SUMMARY:Vintage Sound Collective
DESCRIPTION:The Vintage Sound Collective bring you the finest blend of classy\, high energy Soul\, Funk\, Disco and Pop that will keep the party rocking and the dancefloor grooving! If you love the vintage sounds of Stevie Wonder\, Aretha Franklin\, Chic\, Jocelyn Brown\, James Brown\, Jamiroquai\, Bruno Mars to name but a few then VSC are all your party needs! A full 7 piece band of quality musicians bringing you the classic tracks you love to dance to\, and we love to play all night long!! \nDoors open 7pm\, Band 9.45pm \nNote: As a condition of entry to the Bier Keller and Après you will be required to provide photo ID and Fingerprint enrollment. By providing your ID you agree that your information may be used and shared with the police and other authorities. Failure to provide suitable photo ID will result in the refusal of admission
URL:https://kellerandapres.com/event/vintage-sound-collective/
LOCATION:The Bier Keller and Apres Nightclub
END:VEVENT
BEGIN:VEVENT
DTSTART;TZID=UTC:20220408T190000
DTEND;TZID=UTC:20220408T190000
DTSTAMP:20260419T215037
CREATED:20260216T133236Z
LAST-MODIFIED:20260216T133236Z
UID:263068-1649444400-1649444400@kellerandapres.com
SUMMARY:Bier Keller - All About You
DESCRIPTION:Free Entry (Bier Keller only) \nAll About You are a professional\, highly energetic & finely skilled 4-piece party showband. They perform over 150+ gigs a year & cover a wide range of classic 60’s-modern day Pop\, Rock\, Funk & Soul. \nThroughout all their live shows ‘All About You’ ensure the dancefloor is always full whatever the occasion! \nDoors open 7pm\, Band from 9.30pm \nNote: As a condition of entry to the Bier Keller and Après you will be required to provide photo ID and Fingerprint enrollment. By providing your ID you agree that your information may be used and shared with the police and other authorities. Failure to provide suitable photo ID will result in the refusal of admission
URL:https://kellerandapres.com/event/all-about-you-2/
LOCATION:The Bier Keller and Apres Nightclub
END:VEVENT
BEGIN:VEVENT
DTSTART;TZID=UTC:20220408T190000
DTEND;TZID=UTC:20220408T190000
DTSTAMP:20260419T215037
CREATED:20260216T133237Z
LAST-MODIFIED:20260216T133237Z
UID:263073-1649444400-1649444400@kellerandapres.com
SUMMARY:Apres - I Got Soul Presents- Odyssey Live
DESCRIPTION:I Got Soul Presents- Odyssey Live in Apres \nTHE GLORY DAYS of top vocal group Odyssey\, one of the most successful soul/disco acts of their era\, culminated in the early 1980’s when they topped the charts with “Use It Up And Wear It Out”\, scoring several other Top Ten hits in Britain and throughout the world. \nThe group started out being billed as “The Lopez Sisters” when there were three of them – Lillian\, Louise\, and Carmen. An agent spotted them at a concert and booked them for a five month European tour. When they returned to the States\, Carmen left the trio to marry\, but Lillian and Louise resolved to continue\, and so recruited Tony Reynolds as a replacement.\nFrom their debut album emerged their first smash single – “Native New Yorker”\, an international hit late in 1977. Additionally\, Lillian’s eldest son\, Steven Collazo had become part of Odyssey behind the scenes from its inception\, recording as a background vocalist\, journeyman session musician and musical director for their live performances and tours. \nA couple of years later\, the group cut their “Hang Together” album. It contained “Use It Up And Wear It Out”\, while the flipside\, “Don’t Tell Me\, Tell Her” received major airplay on US Black Radio. In the UK\, “Use It Up” shot to the top ten and number one chart hit\, followed by “If You’re Looking For A Way Out”\, “Inside Out”\, and the Lamont Dozier classic “Going Back To My Roots”\, among others. \nSupport Djs:\nFitzroy Soul Survivors\nTbc \nTickets £17.50 – £20 MOTD\nigotsoulevents.com\nTicket includes entry to Keller & Apres\nBook Tickets Here \nNote: As a condition of entry to the Bier Keller and Après you will be required to provide photo ID and Fingerprint enrollment. By providing your ID you agree that your information may be used and shared with the police and other authorities. Failure to provide suitable photo ID will result in the refusal of admission \nPlease note that access to Keller & Après cannot be guaranteed unless tickets have been purchased in advance
URL:https://kellerandapres.com/event/i-got-soul-presents-odyssey-live/
LOCATION:The Bier Keller and Apres Nightclub
END:VEVENT
BEGIN:VEVENT
DTSTART;TZID=UTC:20220409T190000
DTEND;TZID=UTC:20220409T190000
DTSTAMP:20260419T215037
CREATED:20260216T133236Z
LAST-MODIFIED:20260216T133236Z
UID:263065-1649530800-1649530800@kellerandapres.com
SUMMARY:The Lee Aaron Band
DESCRIPTION:The Lee Aaron Band are an explosive energetic Power Rock/Indie/Pop cover events band and one of the best cover acts in the uk. \nWith vast repertoire allows us to tailor our set to your event. The Lee Aaron Band play music both old and new\, music to dance to\, and music to rock out to including Queen\, The Doobie Brothers\, The Killers\, David Bowie\, Green Day\, Snow Patrol\, Bryan Adams\, Reef\, Kaiser Chiefs\, The Beatles\, U2\, James Brown\, Van Halen\, Andy Williams\, The Who\, Stevie Wonder\, Billy Idol\, Ian Dury\, Foo Fighters\, Red Hot Chilli Peppers… just to name a few! \nThey are one of the uk’s most experienced and sought after cover bands on the circuit today and have been established for many years performing at corporate and private functions as well as numerous pubs and clubs throughout the uk and abroad. \nThe Lee Aaron Band will not disappoint!!! \nDoors open 7pm\, act 9.45pm (Standing only in Bier Keller) \nNote: As a condition of entry to the Bier Keller and Après you will be required to provide photo ID and Fingerprint enrolment . By providing your ID you agree that your information may be used and shared with the police and other authorities. Failure to provide suitable photo ID will result in the refusal of admission
URL:https://kellerandapres.com/event/the-lee-aaron-band-3/
LOCATION:The Bier Keller and Apres Nightclub
END:VEVENT
BEGIN:VEVENT
DTSTART;TZID=UTC:20220415T190000
DTEND;TZID=UTC:20220415T190000
DTSTAMP:20260419T215037
CREATED:20260216T133237Z
LAST-MODIFIED:20260216T133237Z
UID:263091-1650049200-1650049200@kellerandapres.com
SUMMARY:Skaramanga Duo with Sax
DESCRIPTION:Start your Easter weekend with Skaramanga – now with extra sax! Join us for an evening of all your ska and two-tone favourites\, with a few cheeky reggae numbers too\nThe very best of ska and two-tone! Featuring the greatest hits of Madness\, Bad Manners\, the Specials\, the Beat and many more \nSKARAMANGA will have everyone up on their feet and singing and dancing along. You’ll be ska’d for life \nGrab yourself a free ticket to the Bier Keller & Apres\n(Entry by 10pm for ticket to be valid) Book Tickets Here \nDoors open 7pm\, Band 9.45pm\n(Bier Keller is standing room only) \n****PLEASE NOTE****\nAs a condition of entry to the Bier Keller and Après you will be required to provide photo ID and By providing your ID you agree that your information may be used and shared with the police and other authorities. Failure to provide suitable photo ID will result in the refusal of admission. NO ID\, NO ENTRY
URL:https://kellerandapres.com/event/skaramanga-duo/
LOCATION:The Bier Keller and Apres Nightclub
END:VEVENT
BEGIN:VEVENT
DTSTART;TZID=UTC:20220416T190000
DTEND;TZID=UTC:20220416T190000
DTSTAMP:20260419T215037
CREATED:20260216T133237Z
LAST-MODIFIED:20260216T133237Z
UID:263076-1650135600-1650135600@kellerandapres.com
SUMMARY:Legends of the OldSkool
DESCRIPTION:Legends of the OldSkool \nDeep Culture & I Got Soul Events Proudly Present Legends Of The Oldskool\nA night of Classic House & Oldskool Flava’s Taking you back \nRATPACK\nSLIPMATT\nDJ VIBES\nDEAN LAMBERT\nMARK JAMES\nJND \nROOM 2\nBashment RnB Soulful Funky House\nJAYCEE B\nTRIGGA\nMDK\nLOSTBOI & GUEST\nEARLY BIRD TICKETS ARE ON SALE NOW\nTicket Price\n£15-£25\nBook Tickets Here \nNote: As a condition of entry to the Bier Keller and Après you will be required to provide photo ID and Fingerprint enrollment. By providing your ID you agree that your information may be used and shared with the police and other authorities. Failure to provide suitable photo ID will result in the refusal of admission \nPlease note that access to Keller & Après cannot be guaranteed unless tickets have been purchased in advance
URL:https://kellerandapres.com/event/legends-of-the-oldskool/
LOCATION:The Bier Keller and Apres Nightclub
END:VEVENT
BEGIN:VEVENT
DTSTART;TZID=UTC:20220417T190000
DTEND;TZID=UTC:20220417T190000
DTSTAMP:20260419T215037
CREATED:20260216T133235Z
LAST-MODIFIED:20260216T133235Z
UID:263053-1650222000-1650222000@kellerandapres.com
SUMMARY:I GOT SOUL PRESENTS DAVID RODIGAN – APRES
DESCRIPTION:I Got Soul Presents David Rodigan live in Apres \nFor over 40 years David Rodigan has been the top dog in the ganja-scented\, bass heavy-atmosphere of Britain’s reggae dance-halls. The key to his success has been an unsinkable passion for reggae music\, which first took a hold of him as a schoolboy when he heard ska music in the early ’60s. He developed an obsession with the music of Jamaica that generated an encyclopaedic knowledge of the island’s every artist\, every song and every rhythm track.\nRodigan began his reggae broadcasting career in 1978 on BBC Radio London. He moved to Capital Radio in 1979 and remained there for eleven years broadcasting his legendary ‘Roots Rockers’ show every Saturday night. His credibility was ensured when he began clashing with Jamaica’s champion DJ\, Barry G on JBC Radio in Jamaica. He then went on to clash with all the top Jamaican sound sys- tems in the West Indies\, the USA and England. \nIn 1984 he joined BFBS (British Forces Broadcasting Corp) where broadcast his weekly reggae show for 25 years until 2009. Radio: BC Radio London Capital Radio Kiss 100\, Radio 1Xtra & BBC Radio 2. \nHe was inducted into the Sony Radio Academy Hall Of Fame and has also won three highly coveted Sony Radio Academy Gold Awards; The Music Broadcaster Of The Year. & The Specialist Music Broadcaster Of The Year x2\nHe won the highest honour in reggae sound system culture by winning the World Clash Re-Set contest in New York \nTickets 1st release £15 2nd £20 !!!3rd £25 MOTD\nTelephone Bookings 03336663366\nBook Tickets Here\nTicket includes entry to Bier Keller & Apres \nCalvin Francis (Mi Soul Radio) With Cassy M (Crackers Radio)\nRoom 2 RNB Hip Hop Ragga Soul Bashmen \nPlease note that access to Keller & Après cannot be guaranteed unless tickets have been purchased in advance.\nNote: As a condition of entry to the Bier Keller and Après you will be required to provide photo ID and Fingerprint enrollment. By providing your ID you agree that your information may be used and shared with the police and other authorities. Failure to provide suitable photo ID will result in the refusal of admission
URL:https://kellerandapres.com/event/i-got-soul-presents-david-rodigan-apres-2/
LOCATION:The Bier Keller and Apres Nightclub
END:VEVENT
BEGIN:VEVENT
DTSTART;TZID=UTC:20220422T190000
DTEND;TZID=UTC:20220422T190000
DTSTAMP:20260419T215037
CREATED:20260216T133236Z
LAST-MODIFIED:20260216T133236Z
UID:263070-1650654000-1650654000@kellerandapres.com
SUMMARY:Bottle Kids
DESCRIPTION:Bottle Kids have come to rock your party! We play the songs you forgot you loved and our aim is to get you dancing. Join us for an awesome night of rocking with extra sequins! \nDoors open 7pm\, Band 9.45pm \nNote: As a condition of entry to the Bier Keller and Après you will be required to provide photo ID and Fingerprint enrolment . By providing your ID you agree that your information may be used and shared with the police and other authorities. Failure to provide suitable photo ID will result in the refusal of admission
URL:https://kellerandapres.com/event/bottle-kids/
LOCATION:The Bier Keller and Apres Nightclub
END:VEVENT
BEGIN:VEVENT
DTSTART;TZID=UTC:20220423T190000
DTEND;TZID=UTC:20220423T190000
DTSTAMP:20260419T215037
CREATED:20260216T133237Z
LAST-MODIFIED:20260216T133237Z
UID:263079-1650740400-1650740400@kellerandapres.com
SUMMARY:The Strats
DESCRIPTION:The Strats are a dynamic\, energetic band\, who appeal to a wide audience\, playing a variety of Rock\, Pop and Indie tunes. They have become well established in the area over the last 10 years\, playing weddings\, private functions\, pubs and club nights. Having developed a diverse repertoire (from 70’s pop to the latest chart anthems) they can produce a range of different shows depending on the requirements of the event. \nTheir performances are energetic and precise\, with the aim always being to get everyone up and partying on the dance floor! \nDoors open 7pm\, Band 9.45pm \nNote: As a condition of entry to the Bier Keller and Après you will be required to provide photo ID and Fingerprint enrollment. By providing your ID you agree that your information may be used and shared with the police and other authorities. Failure to provide suitable photo ID will result in the refusal of admission
URL:https://kellerandapres.com/event/the-strats/
END:VEVENT
BEGIN:VEVENT
DTSTART;TZID=UTC:20220429T190000
DTEND;TZID=UTC:20220429T190000
DTSTAMP:20260419T215037
CREATED:20260216T133237Z
LAST-MODIFIED:20260216T133237Z
UID:263092-1651258800-1651258800@kellerandapres.com
SUMMARY:The Double Shots
DESCRIPTION:The DoubleShots \nAn energetic and fun party covers band comprising a 5 pc line up of guitar\, keyboards\, bass\, drums and mix of female and male lead vocals. We have a large a varied song list with great audience interaction to get everyone in the party mood! \nDoors open 7pm\, act 9.45pm (Standing only in Bier Keller) \n****PLEASE NOTE****\nAs a condition of entry to the Bier Keller and Après you will be required to provide photo ID and By providing your ID you agree that your information may be used and shared with the police and other authorities. Failure to provide suitable photo ID will result in the refusal of admission. NO ID\, NO ENTRY
URL:https://kellerandapres.com/event/the-doubleshots/
LOCATION:The Bier Keller and Apres Nightclub
END:VEVENT
BEGIN:VEVENT
DTSTART;TZID=UTC:20220430T190000
DTEND;TZID=UTC:20220430T190000
DTSTAMP:20260419T215037
CREATED:20260216T133235Z
LAST-MODIFIED:20260216T133235Z
UID:263056-1651345200-1651345200@kellerandapres.com
SUMMARY:Natural Woman Aretha Franklin Tribute
DESCRIPTION:The Natural Woman Show is a tribute to Aretha Franklin and her incredible life through her\nhits such as “RESPECT”\, “Think”\, Chain of Fools” & “(You Make Me Feel Like A) Natural\nWoman” performed by 4 outstanding singers to give you an AUTHENTIC taste of the Queen\nof Soul. \nTICKETS: £10 advance\, £12 on door\nIncludes entry to Après \nDoors open 7pm\, act 9.30/9.45pm (Standing only in Bier Keller)\nBook Tickets Here \nAccess to Bier Keller & Après cannot be guaranteed for our special events / tribute nights unless tickets have been purchased in advance. \nAs a condition of entry to the Bier Keller and Après you will be required to provide photo ID and Fingerprint enrollment. By providing your ID you agree that your information may be used and shared with the police and other authorities. Failure to provide suitable photo ID will result in the refusal of admission. NO ID\, NO ENTRY.
URL:https://kellerandapres.com/event/natural-woman-motown/
LOCATION:The Bier Keller and Apres Nightclub
END:VEVENT
END:VCALENDAR