BEGIN:VCALENDAR
VERSION:2.0
PRODID:-//Keller Entertainment &amp; Apres Nightclub - ECPv6.15.20//NONSGML v1.0//EN
CALSCALE:GREGORIAN
METHOD:PUBLISH
X-ORIGINAL-URL:https://kellerandapres.com
X-WR-CALDESC:Events for Keller Entertainment &amp; Apres Nightclub
REFRESH-INTERVAL;VALUE=DURATION:PT1H
X-Robots-Tag:noindex
X-PUBLISHED-TTL:PT1H
BEGIN:VTIMEZONE
TZID:UTC
BEGIN:STANDARD
TZOFFSETFROM:+0000
TZOFFSETTO:+0000
TZNAME:UTC
DTSTART:20210101T000000
END:STANDARD
END:VTIMEZONE
BEGIN:VEVENT
DTSTART;VALUE=DATE:20220602
DTEND;VALUE=DATE:20220603
DTSTAMP:20260419T185208
CREATED:20260216T133238Z
LAST-MODIFIED:20260216T133238Z
UID:263120-1654128000-1654214399@kellerandapres.com
SUMMARY:Bier Keller & Apres closed
DESCRIPTION:Bier Keller & Apres closed
URL:https://kellerandapres.com/event/bier-keller-apres-closed-6/
END:VEVENT
BEGIN:VEVENT
DTSTART;TZID=UTC:20220603T190000
DTEND;TZID=UTC:20220603T190000
DTSTAMP:20260419T185208
CREATED:20260216T133234Z
LAST-MODIFIED:20260217T122700Z
UID:263029-1654282800-1654282800@kellerandapres.com
SUMMARY:Adele Tribute
DESCRIPTION:Adele Tribute\nNatalie Black is available to book as the UK’s leading choice when it comes to booking an Adele Tribute act. With a wealth of experience in catering to any event\, Natalie is able deliver an unforgettable night of all Adele’s most loved hits across all of her globally successful albums.\nPerforming this stunning show in an unforgettable night of entertainment\, Natalie is able to to travel nationwide or overseas. Always delivering 100% live vocals\, authentic replica costumes\, impersonating Adele in every aspect of her show\, a true celebration of the music of Adele\, a night not to be missed! \nTickets £8 advance\, £10 on door\, Tickets includes Apres\nDoors open 7pm\, act 9.45pm\nBook Tickets Here \nNote: As a condition of entry to the Bier Keller and Après you will be required to provide photo ID and Fingerprint enrolment . By providing your ID you agree that your information may be used and shared with the police and other authorities. Failure to provide suitable photo ID will result in the refusal of admission\nPlease note that access to Keller & Après cannot be guaranteed unless tickets have been purchased in advance
URL:https://kellerandapres.com/event/adele-tribute/
LOCATION:The Bier Keller and Apres Nightclub
END:VEVENT
BEGIN:VEVENT
DTSTART;TZID=UTC:20220604T190000
DTEND;TZID=UTC:20220604T190000
DTSTAMP:20260419T185208
CREATED:20260216T133236Z
LAST-MODIFIED:20260216T133236Z
UID:263064-1654369200-1654369200@kellerandapres.com
SUMMARY:Ultimate Party Band
DESCRIPTION:Ultimate Party Band are one of the best & most sought after function bands in the UK.\nEXPLOSIVE\, HIGH ENERGY\, A NON STOP MUSICAL THRILL RIDE. \nThe With Ultimate Party Band its all board the party train for a non-stop medley of all your favourite tunes including the greatest movie soundtracks & the biggest tunes from the 80’s\, 90’s\, the noughties and now. \nDoors open 7pm\, Act 9.45pm\n(Standing only in Bier Keller) \nNote: As a condition of entry to the Bier Keller and Après you will be required to provide photo ID and Fingerprint enrollment. By providing your ID you agree that your information may be used and shared with the police and other authorities. Failure to provide suitable photo ID will result in the refusal of admission
URL:https://kellerandapres.com/event/ultimate-party-band-4/
LOCATION:The Bier Keller and Apres Nightclub
END:VEVENT
BEGIN:VEVENT
DTSTART;TZID=UTC:20220610T190000
DTEND;TZID=UTC:20220610T190000
DTSTAMP:20260419T185208
CREATED:20260216T133238Z
LAST-MODIFIED:20260216T133238Z
UID:263109-1654887600-1654887600@kellerandapres.com
SUMMARY:Heathrow Jets
DESCRIPTION:Heathrow Jets play all your favourite high-energy indie rock tunes and the best ‘classic punk’ at a professional level. With an engaging performance that gets everyone singing and dancing\, we guarantee to get the whole place rocking! \nDoors open 7pm Band 9.45pm \nNote: As a condition of entry to the Bier Keller and Après you will be required to provide photo ID and Fingerprint enrollment. By providing your ID you agree that your information may be used and shared with the police and other authorities. Failure to provide suitable photo ID will result in the refusal of admission
URL:https://kellerandapres.com/event/heathrow-jets-2/
LOCATION:The Bier Keller and Apres Nightclub
END:VEVENT
BEGIN:VEVENT
DTSTART;TZID=UTC:20220611T080000
DTEND;TZID=UTC:20220611T170000
DTSTAMP:20260419T185208
CREATED:20260216T133238Z
LAST-MODIFIED:20260216T133238Z
UID:263118-1654934400-1654966800@kellerandapres.com
SUMMARY:The Soultones
DESCRIPTION:The Soultones are a Berkshire based modern soul band\, borne out of the love of playing music and boasting some of the most talented and entertaining musicians on the current music scene. \nA 7 piece band with many years of experience\, playing old school classic dance hits from the likes of Stevie Wonder\, Michael Jackson\, Chaka Khan and many more \nDoors open 7pm\, Band 9.45pm \nNote: As a condition of entry to the Bier Keller and Après you will be required to provide photo ID and Fingerprint enrolment . By providing your ID you agree that your information may be used and shared with the police and other authorities.\nFailure to provide suitable photo ID will result in the refusal of admission
URL:https://kellerandapres.com/event/the-soultones-2/
LOCATION:The Bier Keller and Apres Nightclub
END:VEVENT
BEGIN:VEVENT
DTSTART;TZID=UTC:20220617T190000
DTEND;TZID=UTC:20220617T190000
DTSTAMP:20260419T185208
CREATED:20260216T133233Z
LAST-MODIFIED:20260217T122654Z
UID:263016-1655492400-1655492400@kellerandapres.com
SUMMARY:LUTHER VANDROSS SOLO  & MOTOWN TRIBUTE
DESCRIPTION:Fil Straughan has worked or alongside Ray Lewis’ Drifters\, Hot Chocolate\, Kool & the Gang\, Ed Sheeran and many others. \nFiL is quite possibly the best Luther Vandross tribute vocalist in the world. It is not simply his vocal ability – he manages to tap into the energies of the song in the same manner that Luther did\, touching the audiences’ hearts with vivid emotion. Consequently\, FiL has shared his Luther Show with audiences all over the world – to rapturous applause\nExpect to hear all the Hits plus a mix of cool Soul\, Motown and R’n’B classics delivered with that smooth\, silky vocal which sets Luther Vandross apart from the rest. \nDoors open 7pm\, Act 9.45pm\nTickets: £12 advance\, £14 on door\nBook Tickets Here \nNote: As a condition of entry to the Bier Keller and Après you will be required to provide photo ID and Fingerprint enrollment. By providing your ID you agree that your information may be used and shared with the police and other authorities. Failure to provide suitable photo ID will result in the refusal of admission. \nPlease note that access to Keller & Après cannot be guaranteed unless tickets have been purchased in advance.
URL:https://kellerandapres.com/event/luther-vandross-solo-motown-tribute/
LOCATION:The Bier Keller and Apres Nightclub
END:VEVENT
BEGIN:VEVENT
DTSTART;TZID=UTC:20220618T190000
DTEND;TZID=UTC:20220618T190000
DTSTAMP:20260419T185208
CREATED:20260216T133233Z
LAST-MODIFIED:20260217T122652Z
UID:263012-1655578800-1655578800@kellerandapres.com
SUMMARY:Wow 80's - 80's Tribute
DESCRIPTION:Wow 80’s – 80’s Tribute \nHow do you remember the 1980’s? Watching films like Back To The Future or Footloose\, Maybe dancing the night away to Wham\, Duran Duran and Lionel Richie in your local nightclub?\nHowever you remember the decade that brought us Transformers\, leg warmers and the Rubik’s cube WOW 80’s will be sure to get those 80’s juices flowing once more. \nGigging around the UK and Europe for many years all members of WOW 80’s have performed in and founded leading tribute acts such as: Beautiful World (Premier tribute to Take That) ABBA Dayz (The UK’s top Abba tribute for a decade) and Ultimate Madness (Award winning tribute show to the crazy antics of Madness) \nBringing you the amazing sounds of artists such as: Duran Duran\, Madness\, Lionel Richie\, Wet Wet Wet\, Queen\, ABC\, Go West\, Phil Collins\, David Bowie and many more! WOW 80S truly bring colour and excitement to any event. \n£10 (first release tickets) £12 advance\, £14 on door\, ticket – Includes entry to Apres\nDoors open 7pm\, Band 9.45pm \nBook Tickets Here \n****PLEASE NOTE****\nThat access to Bier Keller & Après cannot be guaranteed for our special events / tribute nights unless tickets have been purchased in advance. \nAs a condition of entry to the Bier Keller and Après you will be required to provide photo ID and Fingerprint enrollment. By providing your ID you agree that your information may be used and shared with the police and other authorities. Failure to provide suitable photo ID will result in the refusal of admission
URL:https://kellerandapres.com/event/wow-80s-80s-tribute-4/
LOCATION:The Bier Keller and Apres Nightclub
END:VEVENT
BEGIN:VEVENT
DTSTART;TZID=UTC:20220624T190000
DTEND;TZID=UTC:20220624T190000
DTSTAMP:20260419T185208
CREATED:20260216T133234Z
LAST-MODIFIED:20260216T133234Z
UID:263051-1656097200-1656097200@kellerandapres.com
SUMMARY:I Got Soul Presents - B Funkt
DESCRIPTION:B-funkt is an 11 piece funk/soul/rare groove outfit based throughout Basingstoke & neighbouring areas. We consist of Darrell’s soulful lead vocals\, supported by two dynamic backing vocalists. With a monumental horn section and a tight\, energetic back-line\, these members come together to create one of the finest funk bands in the area. \nDoors open 7pm\, band 9.45pm\nTicket includes entry to Apres\nBook Tickets Here \nNote: As a condition of entry to the Bier Keller and Après you will be required to provide photo ID and Fingerprint enrollment. By providing your ID you agree that your information may be used and shared with the police and other authorities. Failure to provide suitable photo ID will result in the refusal of admission
URL:https://kellerandapres.com/event/i-got-soul-presents-b-funkt-2/
LOCATION:The Bier Keller and Apres Nightclub
END:VEVENT
BEGIN:VEVENT
DTSTART;TZID=UTC:20220625T190000
DTEND;TZID=UTC:20220625T190000
DTSTAMP:20260419T185208
CREATED:20260216T133238Z
LAST-MODIFIED:20260216T133238Z
UID:263114-1656183600-1656183600@kellerandapres.com
SUMMARY:The New Ambassadors
DESCRIPTION:The New Ambassadors – TNA – a high energy\, high quality band\, with a fast growing enviable reputation for the standard of our show\, performance and professionalism\nThey pride ourselves in making sure we play all the classics but also try and play some of those hidden gems other bands don’t! \nDoors open 7pm. band 9.45pm (Standing only in Bier Keller) \nNote: As a condition of entry to the Bier Keller and Après you will be required to provide photo ID and Fingerprint enrollment. By providing your ID you agree that your information may be used and shared with the police and other authorities. Failure to provide suitable photo ID will result in the refusal of admission. NO ID\, NO ENTRY.
URL:https://kellerandapres.com/event/the-new-ambassadors-2/
LOCATION:The Bier Keller and Apres Nightclub
END:VEVENT
END:VCALENDAR