BEGIN:VCALENDAR
VERSION:2.0
PRODID:-//Keller Entertainment &amp; Apres Nightclub - ECPv6.15.20//NONSGML v1.0//EN
CALSCALE:GREGORIAN
METHOD:PUBLISH
X-ORIGINAL-URL:https://kellerandapres.com
X-WR-CALDESC:Events for Keller Entertainment &amp; Apres Nightclub
REFRESH-INTERVAL;VALUE=DURATION:PT1H
X-Robots-Tag:noindex
X-PUBLISHED-TTL:PT1H
BEGIN:VTIMEZONE
TZID:UTC
BEGIN:STANDARD
TZOFFSETFROM:+0000
TZOFFSETTO:+0000
TZNAME:UTC
DTSTART:20210101T000000
END:STANDARD
END:VTIMEZONE
BEGIN:VEVENT
DTSTART;TZID=UTC:20220902T190000
DTEND;TZID=UTC:20220902T190000
DTSTAMP:20260419T142151
CREATED:20260216T133235Z
LAST-MODIFIED:20260216T133235Z
UID:263055-1662145200-1662145200@kellerandapres.com
SUMMARY:I Got Soul Presents – Barry White Solo Tribute
DESCRIPTION:I Got Soul Presents – Barry White Solo Tribute \nA-Kay is an established and highly sought-after Barry White solo tribute act and all-round entertainer who has performed across the UK and abroad. With fifteen years at the top level\nA real prized talent with a striking authority on stage and vocal gift. A-kay has the look and the presence that make him a professional level performer \nDuring the original artist\, Barry White’s\, career in the music business he achieved 106 gold albums worldwide\, 41 of which also attained platinum status. He had 20 gold and 10 platinum singles\, with worldwide E.P sales in excess of 100 million\, he is one of the world’s best-selling artists\, of all time and is widely credited as being amongst the best.So\, when it comes to paying tribute to Barry White\, it’s not just looking the part\, it’s also about getting those soulful vocals spot on. \nTickets: £8\, £10\, £12.50 (includes entry to Apres)\nBook Tickets Here \nDoors open 7pm\, act 9.45pm \nNote: As a condition of entry to the Bier Keller and Après you will be required to provide photo ID and Fingerprint enrolment . By providing your ID you agree that your information may be used and shared with the police and other authorities. Failure to provide suitable photo ID will result in the refusal of admission \nPlease note that access to Keller & Après cannot be guaranteed unless tickets have been purchased in advance
URL:https://kellerandapres.com/event/i-got-soul-presents-barry-white-solo-tribute-4/
LOCATION:The Bier Keller and Apres Nightclub
END:VEVENT
BEGIN:VEVENT
DTSTART;TZID=UTC:20220903T190000
DTEND;TZID=UTC:20220903T190000
DTSTAMP:20260419T142151
CREATED:20260216T133238Z
LAST-MODIFIED:20260216T133238Z
UID:263099-1662231600-1662231600@kellerandapres.com
SUMMARY:The Lee Aaron Band
DESCRIPTION:The Lee Aaron Band are an explosive energetic Power Rock/Indie/Pop cover events band and one of the best cover acts in the uk. \nWith vast repertoire allows us to tailor our set to your event. The Lee Aaron Band play music both old and new\, music to dance to\, and music to rock out to including Queen\, The Doobie Brothers\, The Killers\, David Bowie\, Green Day\, Snow Patrol\, Bryan Adams\, Reef\, Kaiser Chiefs\, The Beatles\, U2\, James Brown\, Van Halen\, Andy Williams\, The Who\, Stevie Wonder\, Billy Idol\, Ian Dury\, Foo Fighters\, Red Hot Chilli Peppers… just to name a few! \nThey are one of the uk’s most experienced and sought after cover bands on the circuit today and have been established for many years performing at corporate and private functions as well as numerous pubs and clubs throughout the uk and abroad. \nThe Lee Aaron Band will not disappoint!!! \nDoors open 7pm\, act 9.45pm (Standing only in Bier Keller) \nIMPORTANT: The wellbeing of our Customers and staff is paramount to us and therefore we will be requesting evidence of a Covid passport for entry. We understand that some guests may not have completed their vaccinations yet and in that instance we ask those guests to provide evidence of a lateral flow test\, (Home test kits are available FREE from the NHS\, pharmacies or your local testing centre).\nShould you test positive and can’t attend an event\, please advise us in advance\, and we will transfer your ticket to another event (subject to availability) of your choosing once you’ve finished isolating. \nApres has implemented measures with sanitation stations that are available throughout the club. \nAs a condition of entry to the Bier Keller and Après you will be required to provide photo ID and Fingerprint enrolment . By providing your ID you agree that your information may be used and shared with the police and other authorities. Failure to provide suitable photo ID will result in the refusal of admission
URL:https://kellerandapres.com/event/the-lee-aaron-band-4/
LOCATION:The Bier Keller and Apres Nightclub
END:VEVENT
BEGIN:VEVENT
DTSTART;TZID=UTC:20220909T190000
DTEND;TZID=UTC:20220909T190000
DTSTAMP:20260419T142151
CREATED:20260216T133235Z
LAST-MODIFIED:20260216T133235Z
UID:263057-1662750000-1662750000@kellerandapres.com
SUMMARY:Blues Brothers Tribute
DESCRIPTION:Blues Brothers Tribute\nJake & Elwood invite you to spend an evening in Chicago to witness masters at work as they explode on stage for their soul\, rhythm and blues musical extravaganza.\nThey continue to deliver electrifying\, totally live performances to standing ovation audiences globally. \nTickets: £8 advance\, £10 on door\, includes entry to Apres\nDoors open 7pm\, act 9.45pm\nBook Tickets Here \nNote: As a condition of entry to the Bier Keller and Après you will be required to provide photo ID and Fingerprint enrollment. By providing your ID you agree that your information may be used and shared with the police and other authorities. Failure to provide suitable photo ID will result in the refusal of admission\nPlease note that access to Keller & Après cannot be guaranteed unless tickets have been purchased in advanc
URL:https://kellerandapres.com/event/blues-brothers-tribute/
END:VEVENT
BEGIN:VEVENT
DTSTART;TZID=UTC:20220910T190000
DTEND;TZID=UTC:20220910T190000
DTSTAMP:20260419T142151
CREATED:20260216T133238Z
LAST-MODIFIED:20260216T133238Z
UID:263113-1662836400-1662836400@kellerandapres.com
SUMMARY:The New Ambassadors
DESCRIPTION:The New Ambassadors – TNA – a high energy\, high quality band\, with a fast growing enviable reputation for the standard of our show\, performance and professionalism\nThey pride ourselves in making sure we play all the classics but also try and play some of those hidden gems other bands don’t! \nDoors open 7pm. band 9.45pm (Standing only in Bier Keller) \nNote: As a condition of entry to the Bier Keller and Après you will be required to provide photo ID and Fingerprint enrollment. By providing your ID you agree that your information may be used and shared with the police and other authorities. Failure to provide suitable photo ID will result in the refusal of admission. NO ID\, NO ENTRY.
URL:https://kellerandapres.com/event/the-new-ambassadors/
LOCATION:The Bier Keller and Apres Nightclub
END:VEVENT
BEGIN:VEVENT
DTSTART;TZID=UTC:20220916T190000
DTEND;TZID=UTC:20220916T190000
DTSTAMP:20260419T142151
CREATED:20260216T133239Z
LAST-MODIFIED:20260216T133239Z
UID:263123-1663354800-1663354800@kellerandapres.com
SUMMARY:B FunkT Meets I Got Soul
DESCRIPTION:I Got Soul\nB-funkt is an 11 piece funk/soul/rare groove outfit based throughout Basingstoke & neighbouring areas. We consist of Darrell’s soulful lead vocals\, supported by two dynamic backing vocalists. With a monumental horn section and a tight\, energetic back-line\, these members come together to create one of the finest funk bands in the area. \nApres: Doors Open 9pm\nSimon Van Os\nOwen Washington\nTickets £8 – £10 online £12.50 OTD\nBook Tickets Here \nNote: As a condition of entry to the Bier Keller and Après you will be required to provide photo ID By providing your ID you agree that your information may be used and shared with the police and other authorities. Failure to provide suitable photo ID will result in the refusal of admission \nPlease note that access to Keller & Après cannot be guaranteed unless tickets have been purchased in advance
URL:https://kellerandapres.com/event/b-funkt-meets-i-got-soul/
LOCATION:The Bier Keller and Apres Nightclub
END:VEVENT
BEGIN:VEVENT
DTSTART;TZID=UTC:20220917T190000
DTEND;TZID=UTC:20220917T190000
DTSTAMP:20260419T142151
CREATED:20260216T133238Z
LAST-MODIFIED:20260216T133238Z
UID:263100-1663441200-1663441200@kellerandapres.com
SUMMARY:Dance Cult 10 DC10
DESCRIPTION:The Dance Cult 10 are a dynamic 10-Piece band with two amazing vocalists and a horn section to die for\, playing up-tempo dance\, soul\, funk\, and rock. Classic songs by the greats such as Stevie Wonder\, M-People\, Chic\, Dee-Lite\, Chaka Khan\, Bruno Mars\, Average White Band and Madness\,\, all receive the DC10’s unique treatment – and will get you moving and dancing. They have a great time playing \, and the fun is infectious.r \nDoors open 7pm\, Act 9.45pm\n(Standing only in Bier Keller) \nNote: As a condition of entry to the Bier Keller and Après you will be required to provide photo ID. By providing your ID you agree that your information may be used and shared with the police and other authorities. Failure to provide suitable photo ID will result in the refusal of admission
URL:https://kellerandapres.com/event/dance-cult-10-dc10/
LOCATION:The Bier Keller and Apres Nightclub
END:VEVENT
BEGIN:VEVENT
DTSTART;TZID=UTC:20220923T190000
DTEND;TZID=UTC:20220923T190000
DTSTAMP:20260419T142151
CREATED:20260216T133238Z
LAST-MODIFIED:20260216T133238Z
UID:263107-1663959600-1663959600@kellerandapres.com
SUMMARY:The Strats
DESCRIPTION:The Strats are a dynamic\, energetic band\, who appeal to a wide audience\, playing a variety of Rock\, Pop and Indie tunes. They have become well established in the area over the last 10 years\, playing weddings\, private functions\, pubs and club nights. Having developed a diverse repertoire (from 70’s pop to the latest chart anthems) they can produce a range of different shows depending on the requirements of the event. \nTheir performances are energetic and precise\, with the aim always being to get everyone up and partying on the dance floor! \nDoors open 7pm\, Band 9.45pm \nNote: As a condition of entry to the Bier Keller and Après you will be required to provide photo ID and Fingerprint enrollment. By providing your ID you agree that your information may be used and shared with the police and other authorities. Failure to provide suitable photo ID will result in the refusal of admission
URL:https://kellerandapres.com/event/the-strats-3/
END:VEVENT
BEGIN:VEVENT
DTSTART;TZID=UTC:20220924T190000
DTEND;TZID=UTC:20220924T190000
DTSTAMP:20260419T142151
CREATED:20260216T133236Z
LAST-MODIFIED:20260216T133236Z
UID:263071-1664046000-1664046000@kellerandapres.com
SUMMARY:!Daft!
DESCRIPTION:!Daft! are a party rock cover band comprising 5 professional standard musicians who perform high energy and dynamic gigs. Their sets and gigs are designed to be fun\, enthusiastic and crammed with recognisable anthemic tracks from artists including Queen\, Guns N’ Roses\, The Killers\, The Fratellis\, Green Day\, Elvis\, Bon Jovi\, Madness\, Kaiser Chiefs\, Oasis\, Michael Jackson… even ABBA and Take That\, plus many more legendary groups. \nDoors open 7pm\, band 9.45pm \nNote: As a condition of entry to the Bier Keller and Après you will be required to provide photo ID and Fingerprint enrollment. By providing your ID you agree that your information may be used and shared with the police and other authorities. Failure to provide suitable photo ID will result in the refusal of admission
URL:https://kellerandapres.com/event/daft-3/
LOCATION:The Bier Keller and Apres Nightclub
END:VEVENT
BEGIN:VEVENT
DTSTART;TZID=UTC:20220930T190000
DTEND;TZID=UTC:20220930T190000
DTSTAMP:20260419T142151
CREATED:20260216T133233Z
LAST-MODIFIED:20260217T122657Z
UID:263022-1664564400-1664564400@kellerandapres.com
SUMMARY:Ed Sheeran Experience - Tribute
DESCRIPTION:Ed Sheeran Experience \nJack Shepherd is world renowned for his Ed Sheeran tribute shows after playing all over the world since 2015. Jack recreates every song completely live using a replica loop pedal to that of the the man himself. With a show featuring all the hits and ballads you are sure to have a full Ed Sheeran Experience \nJack Shepherd is no stranger to working for big names .\nSome of these clients include the BBC \, ITV \, The Metro \, daily mirror \, thepeople.com plus many more.\nIn 2019 Jack received the prestiegous award for best male artist at the national tribute music awards. \nTickets £10 advance\, £12 on door\, Doors open 7pm\, Act 9.45pm\nBook Tickets Here \nNote: As a condition of entry to the Bier Keller and Après you will be required to provide photo ID and Fingerprint enrollment. By providing your ID you agree that your information may be used and shared with the police and other authorities. Failure to provide suitable photo ID will result in the refusal of admission \nPlease note that access to Keller & Après cannot be guaranteed unless tickets have been purchased in advance
URL:https://kellerandapres.com/event/ed-sheeran-experience-2/
LOCATION:The Bier Keller and Apres Nightclub
END:VEVENT
END:VCALENDAR